BEGIN:VCALENDAR
VERSION:2.0
PRODID:-//https://eruuf.org///NONSGML kigkonsult.se iCalcreator 2.10.15//
METHOD:PUBLISH
BEGIN:VEVENT
UID:20260424T223148UTC-5228LHaJR0@https://eruuf.org/
DTSTAMP:20260424T223148Z
DESCRIPTION:Please join us for the 2025 Transgender Day of Remembrance\nHos
 ted by LGBTQ Center of Durham https://eruuf.org/calendar/calendar-view/eve
 nt/15924-transgender-day-of-remembrance.html
DTSTART:20251115T220000Z
DTEND:20251116T013000Z
LOCATION:Sanctuary - ERUUF   (4907 Garrett Road\, Durham\, NC 27707  )
SUMMARY:Transgender Day of Remembrance
URL:https://eruuf.org/calendar/calendar-view/event/15924-transgender-day-of
 -remembrance.html
END:VEVENT
END:VCALENDAR
