BEGIN:VCALENDAR
VERSION:2.0
PRODID:-//https://eruuf.org///NONSGML kigkonsult.se iCalcreator 2.10.15//
METHOD:PUBLISH
BEGIN:VEVENT
UID:20260421T024123UTC-1035pIslvL@https://eruuf.org/
DTSTAMP:20260421T024123Z
DESCRIPTION:ERUUF's Pride+ LGBTQ+ Action Team invites all friends and allie
 s to join us on Sunday\, November 2 at 3:00 for an informal Zoom Chat. Sen
 d an email to pride@eruuf.org to be added to the email list for the Zoom l
 ink. https://eruuf.org/calendar/calendar-view/event/15940-pride-zoom-chat.
 html
DTSTART:20251102T200000Z
DTEND:20251102T210000Z
LOCATION:Zoom Meeting ()
SUMMARY:Pride+ Zoom Chat
URL:https://eruuf.org/calendar/calendar-view/event/15940-pride-zoom-chat.ht
 ml
END:VEVENT
END:VCALENDAR
