BEGIN:VCALENDAR
VERSION:2.0
PRODID:-//https://eruuf.org///NONSGML kigkonsult.se iCalcreator 2.10.15//
METHOD:PUBLISH
BEGIN:VEVENT
UID:20260420T192119UTC-0667hS00fD@https://eruuf.org/
DTSTAMP:20260420T192119Z
DESCRIPTION:Join the Pride+ Group for games night on Friday\, November 21 a
 t 7 pm in the ERUUF Commons Room. All are welcome (LGBTQ+ and allies). Bri
 ng your own board or card games\, drinks (no alcohol please) and snacks. h
 ttps://eruuf.org/calendar/calendar-view/event/15941-pride-games-night.html
DTSTART:20251122T000000Z
DTEND:20251122T020000Z
LOCATION:Commons Room   (4907 Garrett Rd\, Durham\, NC 27707  )
SUMMARY:Pride+ Games Night
URL:https://eruuf.org/calendar/calendar-view/event/15941-pride-games-night.
 html
END:VEVENT
END:VCALENDAR
