BEGIN:VCALENDAR
VERSION:2.0
PRODID:-//https://eruuf.org///NONSGML kigkonsult.se iCalcreator 2.10.15//
METHOD:PUBLISH
BEGIN:VEVENT
UID:20260421T075638UTC-4469rJcf54@https://eruuf.org/
DTSTAMP:20260421T075638Z
DESCRIPTION:After the 11 am service on November 16\, come down to the fire 
 pit for stories & s’mores. We’ll provide the supplies\, you bring a tale (
 or a listening ear). https://eruuf.org/calendar/calendar-view/event/15944-
 20-s-30-s-s-mores-hour.html
DTSTART:20251116T173000Z
DTEND:20251116T200000Z
LOCATION:Firepit ()
SUMMARY:20's & 30's S'mores Hour
URL:https://eruuf.org/calendar/calendar-view/event/15944-20-s-30-s-s-mores-
 hour.html
END:VEVENT
END:VCALENDAR
