BEGIN:VCALENDAR
VERSION:2.0
PRODID:-//https://eruuf.org///NONSGML kigkonsult.se iCalcreator 2.10.15//
METHOD:PUBLISH
BEGIN:VEVENT
UID:20260420T094444UTC-0000cW65KR@https://eruuf.org/
DTSTAMP:20260420T094443Z
DESCRIPTION:Join us for a light-hearted holiday movie and hot chocolate! Da
 iry & non-dairy options will be provided. Please RSVP in the GroupMe\, or 
 by emailing 20sand30s@eruuf.org. https://eruuf.org/calendar/calendar-view/
 event/15945-20-s-30-s-holiday-movie-hot-chocolate.html
DTSTART:20251220T190000Z
DTEND:20251220T210000Z
LOCATION:Commons Room   (4907 Garrett Rd\, Durham\, NC 27707  )
SUMMARY:20's & 30's Holiday Movie & Hot Chocolate
URL:https://eruuf.org/calendar/calendar-view/event/15945-20-s-30-s-holiday-
 movie-hot-chocolate.html
END:VEVENT
END:VCALENDAR
