BEGIN:VCALENDAR
VERSION:2.0
PRODID:-//https://eruuf.org///NONSGML kigkonsult.se iCalcreator 2.10.15//
METHOD:PUBLISH
BEGIN:VEVENT
UID:20260421T104247UTC-0347gWcgdu@https://eruuf.org/
DTSTAMP:20260421T104247Z
DESCRIPTION:Our discussion session this month will focus on sharing memorie
 s of our most influential non-immediate family teachers whom we have encou
 ntered over the years. How have they helped make us who we are today? The 
 people mentioned do not necessarily have to be “academic' teachers. We loo
 k forward to being with you again. Happy New Year! Join the Seniors Group 
 as they discuss a chosen topic for the month!\nFor more information\, emai
 l the Seniors Group. https://eruuf.org/calendar/calendar-view/event/15961-
 eruuf-seniors-group.html
DTSTART:20260121T180000Z
DTEND:20260121T193000Z
LOCATION:Chapel   ()
SUMMARY:ERUUF Seniors Group
URL:https://eruuf.org/calendar/calendar-view/event/15961-eruuf-seniors-grou
 p.html
END:VEVENT
END:VCALENDAR
