BEGIN:VCALENDAR
VERSION:2.0
PRODID:-//https://eruuf.org///NONSGML kigkonsult.se iCalcreator 2.10.15//
METHOD:PUBLISH
BEGIN:VEVENT
UID:20260424T012644UTC-6316vmJOLK@https://eruuf.org/
DTSTAMP:20260424T012644Z
DESCRIPTION:As we celebrate ERUUF’s 60th anniversary\, let’s plan for our c
 oming Seniors Group meeting on Wednesday April 15th to share ways that our
  association with Unitarian Universalism over the past 60 years\, at ERUUF
  or at U-U churches elsewhere\, has had a positive influence on our lives.
 \nFor more information\, email the Seniors Group. https://eruuf.org/calend
 ar/calendar-view/event/15964-eruuf-seniors-group.html
DTSTART:20260415T170000Z
DTEND:20260415T183000Z
LOCATION:Chapel   ()
SUMMARY:ERUUF Seniors Group
URL:https://eruuf.org/calendar/calendar-view/event/15964-eruuf-seniors-grou
 p.html
END:VEVENT
END:VCALENDAR
