BEGIN:VCALENDAR
VERSION:2.0
PRODID:-//https://eruuf.org///NONSGML kigkonsult.se iCalcreator 2.10.15//
METHOD:PUBLISH
BEGIN:VEVENT
UID:20260422T183507UTC-6694t3Kv6b@https://eruuf.org/
DTSTAMP:20260422T183507Z
DESCRIPTION:Whether you are curious about the game or an experienced machin
 e builder\, come play Wingspan with the 20s and 30s group.\nFor more infor
 mation\, please contact the 20's & 30's Group. https://eruuf.org/calendar/
 calendar-view/event/15970-20-s-30-s-group-wingspan.html
DTSTART:20251129T190000Z
DTEND:20251129T213000Z
LOCATION:Commons Room   (4907 Garrett Rd\, Durham\, NC 27707  )
SUMMARY:20's & 30's Group: Wingspan
URL:https://eruuf.org/calendar/calendar-view/event/15970-20-s-30-s-group-wi
 ngspan.html
END:VEVENT
END:VCALENDAR
