BEGIN:VCALENDAR
VERSION:2.0
PRODID:-//https://eruuf.org///NONSGML kigkonsult.se iCalcreator 2.10.15//
METHOD:PUBLISH
BEGIN:VEVENT
UID:20260420T004056UTC-7206vsUH0F@https://eruuf.org/
DTSTAMP:20260420T004056Z
DESCRIPTION:\nSUN.\, JAN. 25 IS CANCELED DUE TO WEATHER.\n \n\nWelcome high
  schoolers!\n \nWe invite any youth in 9-12th grades to join us for youth 
 group.\nLunch will be provided\, then advisors will lead the group in ritu
 al\, games\, discussion\, activities\, and much more. We also have occasio
 nal off-campus trips and 'lock-ins' (sleepovers at the church).\n \nAll yo
 uth must complete the Youth Permission Form with a guardian before attendi
 ng such activities.\nFor more information about our youth programming\, re
 ach out to Moritz (kmoritz@eruuf.org) to be added to our HSYG email list. 
  https://eruuf.org/calendar/calendar-view/event/15991-high-school-youth-gr
 oup-hsyg.html
DTSTART:20260125T173000Z
DTEND:20260125T190000Z
LOCATION:ERUUF Campus   (4907 Garrett Rd\, Durham\, NC 27707    )
SUMMARY:High School Youth Group (HSYG) - CANCELED
URL:https://eruuf.org/calendar/calendar-view/event/15991-high-school-youth-
 group-hsyg.html
END:VEVENT
END:VCALENDAR
