BEGIN:VCALENDAR
VERSION:2.0
PRODID:-//https://eruuf.org///NONSGML kigkonsult.se iCalcreator 2.10.15//
METHOD:PUBLISH
BEGIN:VEVENT
UID:20260419T210138UTC-3473cPJw5c@https://eruuf.org/
DTSTAMP:20260419T210138Z
DESCRIPTION:Welcome high schoolers!\n \nWe invite any youth in 9-12th grade
 s to join us for youth group.\nLunch will be provided\, then advisors will
  lead the group in ritual\, games\, discussion\, activities\, and much mor
 e. We also have occasional off-campus trips and 'lock-ins' (sleepovers at 
 the church).\n \nAll youth must complete the Youth Permission Form with a 
 guardian before attending such activities.\nFor more information about our
  youth programming\, reach out to Moritz (kmoritz@eruuf.org) to be added t
 o our HSYG email list.  https://eruuf.org/calendar/calendar-view/event/160
 04-high-school-youth-group-hsyg.html
DTSTART:20260426T163000Z
DTEND:20260426T180000Z
LOCATION:ERUUF Campus   (4907 Garrett Rd\, Durham\, NC 27707    )
SUMMARY:High School Youth Group (HSYG)
URL:https://eruuf.org/calendar/calendar-view/event/16004-high-school-youth-
 group-hsyg.html
END:VEVENT
END:VCALENDAR
