BEGIN:VCALENDAR
VERSION:2.0
PRODID:-//https://eruuf.org///NONSGML kigkonsult.se iCalcreator 2.10.15//
METHOD:PUBLISH
BEGIN:VEVENT
UID:20260423T103220UTC-7748e1ZoKV@https://eruuf.org/
DTSTAMP:20260423T103220Z
DESCRIPTION:Death Cafe is an Adult Program under Pastoral Care.\nDeath Cafe
 s are spaces for people to gather and talk about death\, shifting fear and
  nervousness around the topic to acceptance and familiarity. Bring your lu
 nch and join others in conversation.\nRegistration encouraged as it helps 
 us plan better.\nPlease note that a Death Cafe does not offer grief suppor
 t. If you are in need of grief support\, please contact Rev. Jim Lewis to 
 meet one-on-one or for resources surrounding support for grief.\nRSVP Here
 \n \n \nFor more information\, reach out to the Adult Programs Team.  http
 s://eruuf.org/calendar/calendar-view/event/16014-death-cafe-talking-and-li
 stening-circle.html
DTSTART:20260111T180000Z
DTEND:20260111T193000Z
LOCATION:Chapel - ERUUF Sanctuary (4907 Garrett Rd\, Durham\, NC 27707\, US
 A)
SUMMARY:Death Cafe - Talking and Listening Circle
URL:https://eruuf.org/calendar/calendar-view/event/16014-death-cafe-talking
 -and-listening-circle.html
END:VEVENT
END:VCALENDAR
