BEGIN:VCALENDAR
VERSION:2.0
PRODID:-//https://eruuf.org///NONSGML kigkonsult.se iCalcreator 2.10.15//
METHOD:PUBLISH
BEGIN:VEVENT
UID:20260420T233006UTC-1975uEmnab@https://eruuf.org/
DTSTAMP:20260420T233006Z
DESCRIPTION:Come join us for a welcome respite from the often troubling new
 s for games night on Friday\, December 19 at 7 pm. All are welcome (LGBTQ+
  and allies). Bring your own board or card games\, drinks (no alcohol plea
 se) and snacks.\nFor more information\, please email the Pride+ Group. htt
 ps://eruuf.org/calendar/calendar-view/event/16019-pride-games-night.html
DTSTART:20251220T000000Z
DTEND:20251220T020000Z
LOCATION:Commons Room   (4907 Garrett Rd\, Durham\, NC 27707  )
SUMMARY:Pride+ Games Night
URL:https://eruuf.org/calendar/calendar-view/event/16019-pride-games-night.
 html
END:VEVENT
END:VCALENDAR
