BEGIN:VCALENDAR
VERSION:2.0
PRODID:-//https://eruuf.org///NONSGML kigkonsult.se iCalcreator 2.10.15//
METHOD:PUBLISH
BEGIN:VEVENT
UID:20260425T202402UTC-4972gCveVZ@https://eruuf.org/
DTSTAMP:20260425T202402Z
DESCRIPTION:Join Rev. Jim to learn about storytelling. The first session\, 
 we will learn some basics to consider. By the second session\, you will ch
 oose a story to tell to the group. We will practice with a partner who wil
 l give feedback. At our final session\, we will tell each other our chosen
  stories. Plan for playfulness!\nClick Here to Register https://eruuf.org/
 calendar/calendar-view/event/16037-class-with-the-minister-storytelling-fu
 n-in-practice.html
DTSTART:20260318T220000Z
DTEND:20260318T233000Z
LOCATION:CARE Building\, Room 4/5 (4907 Garrett Road)
SUMMARY:Class with the Minister: Storytelling Fun in Practice
URL:https://eruuf.org/calendar/calendar-view/event/16037-class-with-the-min
 ister-storytelling-fun-in-practice.html
END:VEVENT
END:VCALENDAR
