BEGIN:VCALENDAR
VERSION:2.0
PRODID:-//https://eruuf.org///NONSGML kigkonsult.se iCalcreator 2.10.15//
METHOD:PUBLISH
BEGIN:VEVENT
UID:20260421T105142UTC-2764BLguU1@https://eruuf.org/
DTSTAMP:20260421T105142Z
DESCRIPTION:On Sunday January 4\, at 3 pm\, we will have an informal Zoom c
 hat. The leaders of the LGBTQ+ group at the Raleigh UU congregation are pl
 anning to be present. They have been doing some very interesting projects 
 to advance gender equity. To receive the Zoom link\, please send an email 
 to pride@eruuf.org. https://eruuf.org/calendar/calendar-view/event/16051-p
 ride-zoom-chat.html
DTSTART:20260102T200000Z
DTEND:20260102T210000Z
LOCATION:Zoom Meeting ()
SUMMARY:Pride+ Zoom Chat
URL:https://eruuf.org/calendar/calendar-view/event/16051-pride-zoom-chat.ht
 ml
END:VEVENT
END:VCALENDAR
