BEGIN:VCALENDAR
VERSION:2.0
PRODID:-//https://eruuf.org///NONSGML kigkonsult.se iCalcreator 2.10.15//
METHOD:PUBLISH
BEGIN:VEVENT
UID:20260421T105112UTC-1867gOmHLc@https://eruuf.org/
DTSTAMP:20260421T105112Z
DESCRIPTION:Join us for games night on Friday\, January 16 at 7 pm in the E
 RUUF Commons Room. All are welcome (LGBTQ+ and allies). Bring your own boa
 rd or card games\, drinks (no alcohol please) and snacks. \nFor more infor
 mation\, email the Pride+ Group. https://eruuf.org/calendar/calendar-view/
 event/16064-pride-games-night.html
DTSTART:20260117T000000Z
DTEND:20260117T020000Z
LOCATION:Commons Room   (4907 Garrett Rd\, Durham\, NC 27707  )
SUMMARY:Pride+ Games Night
URL:https://eruuf.org/calendar/calendar-view/event/16064-pride-games-night.
 html
END:VEVENT
END:VCALENDAR
