BEGIN:VCALENDAR
VERSION:2.0
PRODID:-//https://eruuf.org///NONSGML kigkonsult.se iCalcreator 2.10.15//
METHOD:PUBLISH
BEGIN:VEVENT
UID:20260423T154519UTC-2564ItcVnc@https://eruuf.org/
DTSTAMP:20260423T154519Z
DESCRIPTION:Due to the potential for inclement weather\, this event has bee
 n canceled.\n \nPlease RSVP in the GroupMe or by emailing 20sand30s@eruuf.
 org. Let us know if you have any questions or requests. https://eruuf.org/
 calendar/calendar-view/event/16066-20-s-30-s-group-social-games.html
DTSTART:20260124T190000Z
DTEND:20260124T210000Z
LOCATION:Commons Room   (4907 Garrett Rd\, Durham\, NC 27707  )
SUMMARY:20's & 30's Group: Social Games - CANCELED
URL:https://eruuf.org/calendar/calendar-view/event/16066-20-s-30-s-group-so
 cial-games.html
END:VEVENT
END:VCALENDAR
