BEGIN:VCALENDAR
VERSION:2.0
PRODID:-//https://eruuf.org///NONSGML kigkonsult.se iCalcreator 2.10.15//
METHOD:PUBLISH
BEGIN:VEVENT
UID:20260420T211147UTC-1836mKuVW6@https://eruuf.org/
DTSTAMP:20260420T211147Z
DESCRIPTION:Dates: Saturdays\, February 7\, March 7\, April 4\, May 2\, Jun
 e 6Time: 9:00 – 11:00 amLocation: Room 4/5\, CARE BuildingFormat: In-perso
 nRegistration RequiredFacilitated by Leadership Development Team\nEverybod
 y Welcome!\nKey practices\, concepts and tools plus components of ERUUF’s 
 operations for ERUUFians interested in learning about leadership roles in 
 the fellowship.Attendees are requested to attend all sessions\nSee Flyer f
 or detailed information.\nRegistration https://eruuf.org/calendar/calendar
 -view/event/16105-intro-to-leadership-at-eruuf-a-primer.html
DTSTART:20260307T140000Z
DTEND:20260307T160000Z
LOCATION:CARE Building\, Room 4/5 (4907 Garrett Road)
SUMMARY: Intro to Leadership at ERUUF – A Primer
URL:https://eruuf.org/calendar/calendar-view/event/16105-intro-to-leadershi
 p-at-eruuf-a-primer.html
END:VEVENT
END:VCALENDAR
