BEGIN:VCALENDAR
VERSION:2.0
PRODID:-//https://eruuf.org///NONSGML kigkonsult.se iCalcreator 2.10.15//
METHOD:PUBLISH
BEGIN:VEVENT
UID:20260420T102807UTC-5497CU7Nod@https://eruuf.org/
DTSTAMP:20260420T102807Z
DESCRIPTION:The Heart of Justice Song Circle is a lay-led\, ERUUF music gro
 up. We learn songs mostly by call and response in the oral tradition. Musi
 cal styles range from folk to gospel to justice songs and beyond. We sing 
 songs that envision a world closely aligned with UU values\, centering lov
 e and calling for justice. Regardless of singing experience\, all ERUUF me
 mbers and friends are welcome to join us as we build community\, transform
 ing lives and nourishing spirits through song.\nFor more information\, ple
 ase contact the Heart of Justice Song Circle. https://eruuf.org/calendar/c
 alendar-view/event/16133-heart-of-justice-song-circle.html
DTSTART:20260331T230000Z
DTEND:20260401T003000Z
LOCATION:Commons Room   (4907 Garrett Rd\, Durham\, NC 27707  )
SUMMARY:Heart of Justice Song Circle  
URL:https://eruuf.org/calendar/calendar-view/event/16133-heart-of-justice-s
 ong-circle.html
END:VEVENT
END:VCALENDAR
