BEGIN:VCALENDAR
VERSION:2.0
PRODID:-//https://eruuf.org///NONSGML kigkonsult.se iCalcreator 2.10.15//
METHOD:PUBLISH
BEGIN:VEVENT
UID:20260423T001202UTC-0108882mIc@https://eruuf.org/
DTSTAMP:20260423T001202Z
DESCRIPTION:On Sunday February 1\, at 3 pm\, we will have an informal Zoom 
 chat. To receive the Zoom link\, please send an email to pride@eruuf.org. 
 https://eruuf.org/calendar/calendar-view/event/16155-pride-zoom-chat.html
DTSTART:20261206T200000Z
DTEND:20261206T210000Z
LOCATION:Online  (Online meetings are organized by the group leader. See th
 e meeting event details for information on how to join.)
SUMMARY:Pride+ Zoom Chat
URL:https://eruuf.org/calendar/calendar-view/event/16155-pride-zoom-chat.ht
 ml
END:VEVENT
END:VCALENDAR
