BEGIN:VCALENDAR
VERSION:2.0
PRODID:-//https://eruuf.org///NONSGML kigkonsult.se iCalcreator 2.10.15//
METHOD:PUBLISH
BEGIN:VEVENT
UID:20260424T144248UTC-4129u1uunc@https://eruuf.org/
DTSTAMP:20260424T144248Z
DESCRIPTION:Join us as we begin discussing 'Miracles and Wonder\; The Histo
 rical Mystery of Jesus' by Elaine Pagels\, the well-known Biblical histori
 an and Princeton professor of religion. We'll start with the Introduction 
 and Chapter 1 ('The Virgin Birth: What happened?'). We will also have our 
 usual informal service of readings and prayers.\nContact us the ERUUF Chri
 stian Fellowship for more information. https://eruuf.org/calendar/calendar
 -view/event/16161-eruuf-christian-fellowship-meeting.html
DTSTART:20260310T230000Z
DTEND:20260311T003000Z
LOCATION:Room 3 - CARE Building ()
SUMMARY:ERUUF Christian Fellowship Meeting
URL:https://eruuf.org/calendar/calendar-view/event/16161-eruuf-christian-fe
 llowship-meeting.html
END:VEVENT
END:VCALENDAR
