BEGIN:VCALENDAR
VERSION:2.0
PRODID:-//https://eruuf.org///NONSGML kigkonsult.se iCalcreator 2.10.15//
METHOD:PUBLISH
BEGIN:VEVENT
UID:20260421T221823UTC-7808HR4vNm@https://eruuf.org/
DTSTAMP:20260421T221823Z
DESCRIPTION:InfUUsions Giving Circle meeting to make decisions to disperse 
 funds to selected local charities.\nFor more information\, please contact 
 membership@eruuf.org.\n  https://eruuf.org/calendar/calendar-view/event/16
 185-infuusions-giving-circle-spring-meeting.html
DTSTART:20260426T170000Z
DTEND:20260426T180000Z
LOCATION:Room 1 - CARE Building ()
SUMMARY:InfUUsions Giving Circle Spring Meeting
URL:https://eruuf.org/calendar/calendar-view/event/16185-infuusions-giving-
 circle-spring-meeting.html
END:VEVENT
END:VCALENDAR
