BEGIN:VCALENDAR
VERSION:2.0
PRODID:-//https://eruuf.org///NONSGML kigkonsult.se iCalcreator 2.10.15//
METHOD:PUBLISH
BEGIN:VEVENT
UID:20260421T104056UTC-1785HBCE3T@https://eruuf.org/
DTSTAMP:20260421T104056Z
DESCRIPTION:Put on your dancing shoes\, bring your kids\, and get on the da
 nce floor as we dance to music from ERUUF's founding in 1966 to the presen
 t. Whether it's the Boogaloo\, the Hustle\, Moonwalk\, or just your own sp
 ecial moves we want to come together and have a good time! Spectators welc
 ome as well. Come dressed as your favorite decade! Food and drinks will be
  provided. Pizza and drinks included.\nRSVP Here https://eruuf.org/calenda
 r/calendar-view/event/16196-dance-the-decades.html
DTSTART:20260411T210000Z
DTEND:20260411T230000Z
LOCATION:Fellowship Hall   ()
SUMMARY:Dance the Decades
URL:https://eruuf.org/calendar/calendar-view/event/16196-dance-the-decades.
 html
END:VEVENT
END:VCALENDAR
