BEGIN:VCALENDAR
VERSION:2.0
PRODID:-//https://eruuf.org///NONSGML kigkonsult.se iCalcreator 2.10.15//
METHOD:PUBLISH
BEGIN:VEVENT
UID:20260420T220815UTC-4848GKgFDA@https://eruuf.org/
DTSTAMP:20260420T220815Z
DESCRIPTION:Join us for games night on Friday\, March 20 at 7 pm. All are w
 elcome (LGBTQ+ and allies). Bring your own board or card games\, drinks (n
 o alcohol please) and snacks.\nFor more information\, contact the Pride+ G
 roup. https://eruuf.org/calendar/calendar-view/event/16199-pride-games-nig
 ht.html
DTSTART:20260320T230000Z
DTEND:20260321T010000Z
LOCATION:Commons Room   (4907 Garrett Rd\, Durham\, NC 27707  )
SUMMARY:Pride+ Games Night
URL:https://eruuf.org/calendar/calendar-view/event/16199-pride-games-night.
 html
END:VEVENT
END:VCALENDAR
