BEGIN:VCALENDAR
VERSION:2.0
PRODID:-//https://eruuf.org///NONSGML kigkonsult.se iCalcreator 2.10.15//
METHOD:PUBLISH
BEGIN:VEVENT
UID:20260420T053219UTC-5069r5lztI@https://eruuf.org/
DTSTAMP:20260420T053219Z
DESCRIPTION:What is Good Trouble?\nJohn Lewis once said “….I heard the voic
 e of Dr. Martin Luther King Jr. on an old radio. He was talking about the 
 philosophy and discipline of nonviolence. He said we are all complicit whe
 n we tolerate injustice. He said it is not enough to say it will get bette
 r by and by. He said each of us has a moral obligation to stand up\, speak
  up and speak out. When you see something that is not right\, you must say
  something. You must do something. Democracy is not a state. It is an act\
 , and each generation must do its part to help build what we called the Be
 loved Community\, a nation and world society at peace with itself”.\nConsi
 der the United States today. It requires what John Lewis once called “…goo
 d trouble\, necessary trouble.”Join us to watch a brief tribute to the lif
 e and words of this extraordinary individual. Today\, he is more relevant 
 than ever. Watch a Reading of the Last Words of Rep. John Lewis by Morgan 
 Freeman\, aired on 'The Last Word with Laurence O'Donnell' July 30\, 2020.
 \nRSVP for the Zoom link. For more information\, contact the Multicultural
  Team.\nRSVP Here https://eruuf.org/calendar/calendar-view/event/16218-1st
 -sunday-conversations-multicultural-team.html
DTSTART:20260405T173000Z
DTEND:20260405T183000Z
LOCATION:Online  (Online meetings are organized by the group leader. See th
 e meeting event details for information on how to join.)
SUMMARY:1st Sunday Conversations (Multicultural Team)
URL:https://eruuf.org/calendar/calendar-view/event/16218-1st-sunday-convers
 ations-multicultural-team.html
END:VEVENT
END:VCALENDAR
