BEGIN:VCALENDAR
VERSION:2.0
PRODID:-//https://eruuf.org///NONSGML kigkonsult.se iCalcreator 2.10.15//
METHOD:PUBLISH
BEGIN:VEVENT
UID:20260423T211431UTC-65716c47m3@https://eruuf.org/
DTSTAMP:20260423T211431Z
DESCRIPTION:Big THANKS to everyone who donated food in March and to the RE 
 youth who helped sort the different varieties of proteins into boxes for d
 elvery to the Emanuel Food Pantry. The partneship between the Muticultural
  Team and RE is an ongoing initiative to help address food insecurity in D
 urham.\nOn Sunday\, April 12\, we will be collecting hot/cold breakfast ce
 reals.\nFor more information\, please contact the Multicultural Team. http
 s://eruuf.org/calendar/calendar-view/event/16230-emanuel-food-pantry-colle
 ction.html
DTSTART:20260412T130000Z
DTEND:20260412T170000Z
LOCATION:ERUUF Office ()
SUMMARY:Emanuel Food Pantry Collection
URL:https://eruuf.org/calendar/calendar-view/event/16230-emanuel-food-pantr
 y-collection.html
END:VEVENT
END:VCALENDAR
