BEGIN:VCALENDAR
VERSION:2.0
PRODID:-//https://eruuf.org///NONSGML kigkonsult.se iCalcreator 2.10.15//
METHOD:PUBLISH
BEGIN:VEVENT
UID:20260420T211026UTC-5111TZdlXc@https://eruuf.org/
DTSTAMP:20260420T211026Z
DESCRIPTION:The group reads and discusses the text\, workbook\, and applica
 tions of the Course in daily life. Newcomers are always welcome. Contact R
 ic Shepherd\, ric1shep@aol.com https://eruuf.org/calendar/calendar-view/ev
 ent/1682-a-course-in-miracles.html
DTSTART:20160327T130000Z
DTEND:20160327T143000Z
LOCATION:Room 3 - CARE Building ()
SUMMARY:A Course in Miracles
URL:https://eruuf.org/calendar/calendar-view/event/1682-a-course-in-miracle
 s.html
END:VEVENT
END:VCALENDAR
