BEGIN:VCALENDAR
VERSION:2.0
PRODID:-//https://eruuf.org///NONSGML kigkonsult.se iCalcreator 2.10.15//
METHOD:PUBLISH
BEGIN:VEVENT
UID:20260420T182846UTC-6470ukDuEh@https://eruuf.org/
DTSTAMP:20260420T182846Z
DESCRIPTION:Middle school youth share a variety of fun\, educational and se
 rvice activities in a supportive\, inclusive group.  Meets the 2nd and 4th
  Sundays from 1-3 PM https://eruuf.org/calendar/calendar-view/event/1777-m
 iddle-school-youth-group-msyg.html
DTSTART:20160313T160000Z
DTEND:20160313T180000Z
LOCATION:Room 4/5   (4907 Garrett Rd\, Durham\, NC 27707   )
SUMMARY:Middle School Youth Group (MSYG)
URL:https://eruuf.org/calendar/calendar-view/event/1777-middle-school-youth
 -group-msyg.html
END:VEVENT
END:VCALENDAR
