BEGIN:VCALENDAR
VERSION:2.0
PRODID:-//https://eruuf.org///NONSGML kigkonsult.se iCalcreator 2.10.15//
METHOD:PUBLISH
BEGIN:VEVENT
UID:20260419T134324UTC-2919pDMaDe@https://eruuf.org/
DTSTAMP:20260419T134324Z
DESCRIPTION:Middle school youth share a variety of fun\, educational and se
 rvice activities in a supportive\, inclusive group.  Nomally meets the 2nd
  and 4th Sundays from 1-3 PM.  This is a special time to make up for being
  closed due to snow. https://eruuf.org/calendar/calendar-view/event/1778-m
 iddle-school-youth-group-msyg.html
DTSTART:20160221T180000Z
DTEND:20160221T200000Z
LOCATION:Room 4/5   (4907 Garrett Rd\, Durham\, NC 27707   )
SUMMARY:Middle School Youth Group (MSYG)
URL:https://eruuf.org/calendar/calendar-view/event/1778-middle-school-youth
 -group-msyg.html
END:VEVENT
END:VCALENDAR
