BEGIN:VCALENDAR
VERSION:2.0
PRODID:-//https://eruuf.org///NONSGML kigkonsult.se iCalcreator 2.10.15//
METHOD:PUBLISH
BEGIN:VEVENT
UID:20260421T022748UTC-04063Le9cv@https://eruuf.org/
DTSTAMP:20260421T022748Z
DESCRIPTION:We are a group formed around humanist teaching and ideas. Pleas
 e join us. We meet on the 2nd and 4th Sundays from 1-3pm. We will watch an
 d discuss the TED talk ‘Can a Divided America Heal?’ by social psychologis
 t Jonathan Haidt who studies the morals that form the basis of our politic
 al choices.  All are welcome to join us. Contact: Amy Miller (humanist@eru
 uf.org). https://eruuf.org/calendar/calendar-view/event/1780-humanist-grou
 p.html
DTSTART:20161113T180000Z
DTEND:20161113T200000Z
LOCATION:Commons Room   (4907 Garrett Rd\, Durham\, NC 27707  )
SUMMARY:Humanist Group
URL:https://eruuf.org/calendar/calendar-view/event/1780-humanist-group.html
END:VEVENT
END:VCALENDAR
