BEGIN:VCALENDAR
VERSION:2.0
PRODID:-//https://eruuf.org///NONSGML kigkonsult.se iCalcreator 2.10.15//
METHOD:PUBLISH
BEGIN:VEVENT
UID:20260420T015950UTC-43781ujA9u@https://eruuf.org/
DTSTAMP:20260420T015950Z
DESCRIPTION:We are a group formed around humanist teaching and ideas. Pleas
 e join us. We meet on the 2nd and 4th Sundays from 1-3pm. Contact Amy Mill
 er\, Ame1ia@aol.com https://eruuf.org/calendar/calendar-view/event/1788-hu
 manist-group.html
DTSTART:20160313T160000Z
DTEND:20160313T180000Z
LOCATION:Commons Room   (4907 Garrett Rd\, Durham\, NC 27707  )
SUMMARY:Humanist Group
URL:https://eruuf.org/calendar/calendar-view/event/1788-humanist-group.html
END:VEVENT
END:VCALENDAR
