BEGIN:VCALENDAR
VERSION:2.0
PRODID:-//https://eruuf.org///NONSGML kigkonsult.se iCalcreator 2.10.15//
METHOD:PUBLISH
BEGIN:VEVENT
UID:20260421T030538UTC-81861uShDN@https://eruuf.org/
DTSTAMP:20260421T030538Z
DESCRIPTION:We are a group formed around humanist teaching and ideas. Pleas
 e join us. We meet on the 2nd and 4th Sundays from 1-3pm. Contact Amy Mill
 er\, Ame1ia@aol.com https://eruuf.org/calendar/calendar-view/event/1790-hu
 manist-group.html
DTSTART:20161225T180000Z
DTEND:20161225T200000Z
LOCATION:Commons Room   (4907 Garrett Rd\, Durham\, NC 27707  )
SUMMARY:Humanist Group
URL:https://eruuf.org/calendar/calendar-view/event/1790-humanist-group.html
END:VEVENT
END:VCALENDAR
