BEGIN:VCALENDAR
VERSION:2.0
PRODID:-//https://eruuf.org///NONSGML kigkonsult.se iCalcreator 2.10.15//
METHOD:PUBLISH
BEGIN:VEVENT
UID:20260419T184448UTC-5455rwpVIu@https://eruuf.org/
DTSTAMP:20260419T184448Z
DESCRIPTION:Come join us with your knitting or crocheting project for fun\,
  fellowship and learning about our ministry of giving to the community thr
 ough our hearts and hands. This is a busy meeting  to assemble afghans\, c
 ollect finished items\, exchange patterns and coordinate deliveries. Conta
 ct Linda Brown\, clickers@eruuf.org https://eruuf.org/calendar/calendar-vi
 ew/event/1815-clicking-for-a-cause.html
DTSTART:20160314T130000Z
DTEND:20160314T150000Z
LOCATION:Commons Room   (4907 Garrett Rd\, Durham\, NC 27707  )
SUMMARY:Clicking for a Cause
URL:https://eruuf.org/calendar/calendar-view/event/1815-clicking-for-a-caus
 e.html
END:VEVENT
END:VCALENDAR
