BEGIN:VCALENDAR
VERSION:2.0
PRODID:-//https://eruuf.org///NONSGML kigkonsult.se iCalcreator 2.10.15//
METHOD:PUBLISH
BEGIN:VEVENT
UID:20260419T184906UTC-6642I9wRlV@https://eruuf.org/
DTSTAMP:20260419T184906Z
DESCRIPTION:Many in our community have experienced human loss in the past y
 ear.  Finding a new equilibrium with that relationship takes time\, as we 
 move through various stages in our own hearts and through the calendar tim
 e of events.  Grief is particularly difficult and often becomes magnified 
 as we move into the holiday season.  By joining with others in a confident
 ial\, safe community of support\, we can share our grief\, finding our way
  toward healing.This 6 week support group is facilitated by Rev. Stacy Gro
 ve and Rev. Nancy Huslage\, an Interfaith Minister and former hospice chap
 lain who has led grief groups for many years.  Space is limited. To regist
 er contact Rev. Stacy Grove Sgrove@eruuf.org\, 919.489.2575  x103 https://
 eruuf.org/calendar/calendar-view/event/193-navigating-our-journey-with-gri
 ef.html
DTSTART:20171024T223000Z
DTEND:20171025T000000Z
LOCATION:Room 4/5   (4907 Garrett Rd\, Durham\, NC 27707   )
SUMMARY:Navigating Our Journey with Grief
URL:https://eruuf.org/calendar/calendar-view/event/193-navigating-our-journ
 ey-with-grief.html
END:VEVENT
END:VCALENDAR
