BEGIN:VCALENDAR
VERSION:2.0
PRODID:-//https://eruuf.org///NONSGML kigkonsult.se iCalcreator 2.10.15//
METHOD:PUBLISH
BEGIN:VEVENT
UID:20260419T201517UTC-4791Bdu6Sv@https://eruuf.org/
DTSTAMP:20260419T201517Z
DESCRIPTION:The Companions Network is commissioned to visit as caring repre
 sentatives of the congregation in response to ERUUF members’ joys\, sorrow
 s and milestones. Training occurs at the monthly meetings. For more inform
 ation\, contact Rev. Kacela or Network Leaders\, Carol Ann Antunes and Fra
 nk Baker\,  https://eruuf.org/calendar/calendar-view/event/1942-companions
 -network.html
DTSTART:20160503T170000Z
DTEND:20160503T183000Z
LOCATION:Commons Room   (4907 Garrett Rd\, Durham\, NC 27707  )
SUMMARY:Companions Network 
URL:https://eruuf.org/calendar/calendar-view/event/1942-companions-network.
 html
END:VEVENT
END:VCALENDAR
