BEGIN:VCALENDAR
VERSION:2.0
PRODID:-//https://eruuf.org///NONSGML kigkonsult.se iCalcreator 2.10.15//
METHOD:PUBLISH
BEGIN:VEVENT
UID:20260420T074416UTC-0564ZrdXmV@https://eruuf.org/
DTSTAMP:20260420T074416Z
DESCRIPTION:All are welcome! Contact: Steve Seiberling\, sseiber@email.unc.
 edu https://eruuf.org/calendar/calendar-view/event/1958-eno-river-buddhist
 -community-morning-of-mindfulness.html
DTSTART:20161112T140000Z
DTEND:20161112T170000Z
LOCATION:Chapel   ()
SUMMARY:Eno River Buddhist Community Morning of Mindfulness
URL:https://eruuf.org/calendar/calendar-view/event/1958-eno-river-buddhist-
 community-morning-of-mindfulness.html
END:VEVENT
END:VCALENDAR
