BEGIN:VCALENDAR
VERSION:2.0
PRODID:-//https://eruuf.org///NONSGML kigkonsult.se iCalcreator 2.10.15//
METHOD:PUBLISH
BEGIN:VEVENT
UID:20260420T131834UTC-0762ZhPeJN@https://eruuf.org/
DTSTAMP:20260420T131834Z
DESCRIPTION:All are welcome! Contact: Steve Seiberling\, sseiber@email.unc.
 edu https://eruuf.org/calendar/calendar-view/event/1961-eno-river-buddhist
 -community-morning-of-mindfulness.html
DTSTART:20160813T130000Z
DTEND:20160813T160000Z
LOCATION:Chapel   ()
SUMMARY:Eno River Buddhist Community Morning of Mindfulness
URL:https://eruuf.org/calendar/calendar-view/event/1961-eno-river-buddhist-
 community-morning-of-mindfulness.html
END:VEVENT
END:VCALENDAR
