BEGIN:VCALENDAR
VERSION:2.0
PRODID:-//https://eruuf.org///NONSGML kigkonsult.se iCalcreator 2.10.15//
METHOD:PUBLISH
BEGIN:VEVENT
UID:20260420T053627UTC-4823lIjBmX@https://eruuf.org/
DTSTAMP:20260420T053627Z
DESCRIPTION:All are welcome! Contact: Steve Seiberling\, sseiber@email.unc.
 edu https://eruuf.org/calendar/calendar-view/event/1965-eno-river-buddhist
 -community-morning-of-mindfulness.html
DTSTART:20160409T130000Z
DTEND:20160409T160000Z
LOCATION:Chapel   ()
SUMMARY:Eno River Buddhist Community Morning of Mindfulness
URL:https://eruuf.org/calendar/calendar-view/event/1965-eno-river-buddhist-
 community-morning-of-mindfulness.html
END:VEVENT
END:VCALENDAR
