BEGIN:VCALENDAR
VERSION:2.0
PRODID:-//https://eruuf.org///NONSGML kigkonsult.se iCalcreator 2.10.15//
METHOD:PUBLISH
BEGIN:VEVENT
UID:20260419T122301UTC-9455wX64FM@https://eruuf.org/
DTSTAMP:20260419T122301Z
DESCRIPTION:The Board of Trustees monthly meeting is open for viewing to al
 l ERUUF members. Contact Johan Madson\, Board Chair\, board@eruuf.org http
 s://eruuf.org/calendar/calendar-view/event/1978-board-of-trustees-meeting.
 html
DTSTART:20160217T000000Z
DTEND:20160217T020000Z
LOCATION:Commons Room   (4907 Garrett Rd\, Durham\, NC 27707  )
SUMMARY:Board of Trustees Meeting
URL:https://eruuf.org/calendar/calendar-view/event/1978-board-of-trustees-m
 eeting.html
END:VEVENT
END:VCALENDAR
