BEGIN:VCALENDAR
VERSION:2.0
PRODID:-//https://eruuf.org///NONSGML kigkonsult.se iCalcreator 2.10.15//
METHOD:PUBLISH
BEGIN:VEVENT
UID:20260424T222127UTC-1990WpMEbs@https://eruuf.org/
DTSTAMP:20260424T222127Z
DESCRIPTION:Orientation to ERUUF and Unitarian Universalism for all newcome
 rs or those who have questions about us.  Contact Jacqueline Brett\, jbret
 t@eruuforg https://eruuf.org/calendar/calendar-view/event/1981-newcomer-or
 ientation.html
DTSTART:20160320T143000Z
DTEND:20160320T150000Z
LOCATION:Chapel   ()
SUMMARY:Newcomer Orientation
URL:https://eruuf.org/calendar/calendar-view/event/1981-newcomer-orientatio
 n.html
END:VEVENT
END:VCALENDAR
