BEGIN:VCALENDAR
VERSION:2.0
PRODID:-//https://eruuf.org///NONSGML kigkonsult.se iCalcreator 2.10.15//
METHOD:PUBLISH
BEGIN:VEVENT
UID:20260420T075338UTC-0988kWTzRB@https://eruuf.org/
DTSTAMP:20260420T075338Z
DESCRIPTION:Mid-School Youth Group (Grades 6-8)  share a variety of fun\, e
 ducational and service activities in a supportive\, inclusive group. For i
 nformation contact our Youth Director\, Melissa Gjestvang-Lucky\, youthmin
 istry@eruuf.org https://eruuf.org/calendar/calendar-view/event/2030-middle
 -school-youth-group-msyg.html
DTSTART:20160828T170000Z
DTEND:20160828T190000Z
LOCATION:Room 4/5   (4907 Garrett Rd\, Durham\, NC 27707   )
SUMMARY:Middle School Youth Group (MSYG)
URL:https://eruuf.org/calendar/calendar-view/event/2030-middle-school-youth
 -group-msyg.html
END:VEVENT
END:VCALENDAR
