BEGIN:VCALENDAR
VERSION:2.0
PRODID:-//https://eruuf.org///NONSGML kigkonsult.se iCalcreator 2.10.15//
METHOD:PUBLISH
BEGIN:VEVENT
UID:20260420T021931UTC-0187z5g1WR@https://eruuf.org/
DTSTAMP:20260420T021931Z
DESCRIPTION:MSYG will be participating in the RE Bridging ceremonies picnic
  today at Few's Ford Crossing in Eno River State Park.Mid-School Youth Gro
 up (Grades 6-8)  share a variety of fun\, educational and service activiti
 es in a supportive\, inclusive group. For information contact our Youth Di
 rector\, Melissa Gjestvang-Lucky\, youthministry@eruuf.org https://eruuf.o
 rg/calendar/calendar-view/event/2033-middle-school-youth-group-msyg.html
DTSTART:20160522T170000Z
DTEND:20160522T190000Z
LOCATION:Eno River State Park\, Few's Ford Crossing (6101 Cole Mill Rd\, Du
 rham\, NC 27705\, USA)
SUMMARY:Middle School Youth Group (MSYG)
URL:https://eruuf.org/calendar/calendar-view/event/2033-middle-school-youth
 -group-msyg.html
END:VEVENT
END:VCALENDAR
