BEGIN:VCALENDAR
VERSION:2.0
PRODID:-//https://eruuf.org///NONSGML kigkonsult.se iCalcreator 2.10.15//
METHOD:PUBLISH
BEGIN:VEVENT
UID:20260419T232037UTC-5684U0OXls@https://eruuf.org/
DTSTAMP:20260419T232037Z
DESCRIPTION:Meets 1st Tuesday of the month: 7:00-8:30 pm\, Room 3 of the CA
 RE buildingAn open group whose purpose is to practice prayer\, support the
  prayer life of its members and provide a place to discuss insights or pro
 blems related to an intentional prayer life. https://eruuf.org/calendar/ca
 lendar-view/event/2100-evening-prayer-group.html
DTSTART:20161101T230000Z
DTEND:20161102T003000Z
LOCATION:Room 3 - CARE Building ()
SUMMARY:Evening Prayer Group
URL:https://eruuf.org/calendar/calendar-view/event/2100-evening-prayer-grou
 p.html
END:VEVENT
END:VCALENDAR
