BEGIN:VCALENDAR
VERSION:2.0
PRODID:-//https://eruuf.org///NONSGML kigkonsult.se iCalcreator 2.10.15//
METHOD:PUBLISH
BEGIN:VEVENT
UID:20260423T034734UTC-3404AnsvVg@https://eruuf.org/
DTSTAMP:20260423T034734Z
DESCRIPTION:Monthly planning meeting of the Justice Council.  Contact Dave 
 Austin\; daustin@mindspring.com https://eruuf.org/calendar/calendar-view/e
 vent/2125-justice-council-meeting.html
DTSTART:20161214T000000Z
DTEND:20161214T020000Z
LOCATION:Room 1 - CARE Building ()
SUMMARY:Justice Council meeting
URL:https://eruuf.org/calendar/calendar-view/event/2125-justice-council-mee
 ting.html
END:VEVENT
END:VCALENDAR
