BEGIN:VCALENDAR
VERSION:2.0
PRODID:-//https://eruuf.org///NONSGML kigkonsult.se iCalcreator 2.10.15//
METHOD:PUBLISH
BEGIN:VEVENT
UID:20260420T125310UTC-0235fTmDwS@https://eruuf.org/
DTSTAMP:20260420T125310Z
DESCRIPTION:Monthly planning meeting of the Justice Council.  Contact Dave 
 Austin\; daustin@mindspring.com https://eruuf.org/calendar/calendar-view/e
 vent/2133-justice-council-meeting.html
DTSTART:20160412T230000Z
DTEND:20160413T010000Z
LOCATION:Room 1 - CARE Building ()
SUMMARY:Justice Council meeting
URL:https://eruuf.org/calendar/calendar-view/event/2133-justice-council-mee
 ting.html
END:VEVENT
END:VCALENDAR
