BEGIN:VCALENDAR
VERSION:2.0
PRODID:-//https://eruuf.org///NONSGML kigkonsult.se iCalcreator 2.10.15//
METHOD:PUBLISH
BEGIN:VEVENT
UID:20260424T103257UTC-2345CLT62u@https://eruuf.org/
DTSTAMP:20260424T103257Z
DESCRIPTION:For more information about the Nominating Committee's activitie
 s\, click here https://eruuf.org/calendar/calendar-view/event/2157-nominat
 ing-committee.html
DTSTART:20160609T230000Z
DTEND:20160610T000000Z
LOCATION:Commons Room   (4907 Garrett Rd\, Durham\, NC 27707  )
SUMMARY:Nominating Committee
URL:https://eruuf.org/calendar/calendar-view/event/2157-nominating-committe
 e.html
END:VEVENT
END:VCALENDAR
