BEGIN:VCALENDAR
VERSION:2.0
PRODID:-//https://eruuf.org///NONSGML kigkonsult.se iCalcreator 2.10.15//
METHOD:PUBLISH
BEGIN:VEVENT
UID:20260422T214521UTC-2224hicmO5@https://eruuf.org/
DTSTAMP:20260422T214521Z
DESCRIPTION:For more information about the Nominating Committee's activitie
 s\, click here https://eruuf.org/calendar/calendar-view/event/2158-nominat
 ing-committee.html
DTSTART:20160512T230000Z
DTEND:20160513T000000Z
LOCATION:Commons Room   (4907 Garrett Rd\, Durham\, NC 27707  )
SUMMARY:Nominating Committee
URL:https://eruuf.org/calendar/calendar-view/event/2158-nominating-committe
 e.html
END:VEVENT
END:VCALENDAR
