BEGIN:VCALENDAR
VERSION:2.0
PRODID:-//https://eruuf.org///NONSGML kigkonsult.se iCalcreator 2.10.15//
METHOD:PUBLISH
BEGIN:VEVENT
UID:20260424T131412UTC-5149pHUPtt@https://eruuf.org/
DTSTAMP:20260424T131412Z
DESCRIPTION:For more information about the Nominating Committee's activitie
 s\, click here https://eruuf.org/calendar/calendar-view/event/2160-nominat
 ing-committee.html
DTSTART:20160311T000000Z
DTEND:20160311T010000Z
LOCATION:Commons Room   (4907 Garrett Rd\, Durham\, NC 27707  )
SUMMARY:Nominating Committee
URL:https://eruuf.org/calendar/calendar-view/event/2160-nominating-committe
 e.html
END:VEVENT
END:VCALENDAR
