BEGIN:VCALENDAR
VERSION:2.0
PRODID:-//https://eruuf.org///NONSGML kigkonsult.se iCalcreator 2.10.15//
METHOD:PUBLISH
BEGIN:VEVENT
UID:20260425T170616UTC-9392tdcLwb@https://eruuf.org/
DTSTAMP:20260425T170616Z
DESCRIPTION:Contact: Diane Blount & Dan Grandstaff https://eruuf.org/calend
 ar/calendar-view/event/2162-beloved-conversations.html
DTSTART:20160410T170000Z
DTEND:20160410T190000Z
LOCATION:Room 1 - CARE Building ()
SUMMARY:Beloved Conversations
URL:https://eruuf.org/calendar/calendar-view/event/2162-beloved-conversatio
 ns.html
END:VEVENT
END:VCALENDAR
