BEGIN:VCALENDAR
VERSION:2.0
PRODID:-//https://eruuf.org///NONSGML kigkonsult.se iCalcreator 2.10.15//
METHOD:PUBLISH
BEGIN:VEVENT
UID:20260423T160942UTC-5390iDaejX@https://eruuf.org/
DTSTAMP:20260423T160942Z
DESCRIPTION:Contact: Diane Blount & Dan Grandstaff https://eruuf.org/calend
 ar/calendar-view/event/2163-beloved-conversations.html
DTSTART:20160313T170000Z
DTEND:20160313T190000Z
LOCATION:Room 1 - CARE Building ()
SUMMARY:Beloved Conversations
URL:https://eruuf.org/calendar/calendar-view/event/2163-beloved-conversatio
 ns.html
END:VEVENT
END:VCALENDAR
