BEGIN:VCALENDAR
VERSION:2.0
PRODID:-//https://eruuf.org///NONSGML kigkonsult.se iCalcreator 2.10.15//
METHOD:PUBLISH
BEGIN:VEVENT
UID:20260423T052214UTC-6834aCA17O@https://eruuf.org/
DTSTAMP:20260423T052214Z
DESCRIPTION:Monthly meeting of the Triangle area UU ministers. https://eruu
 f.org/calendar/calendar-view/event/2166-thuuma-meeting.html
DTSTART:20161006T130000Z
DTEND:20161006T160000Z
LOCATION:Fellowship Hall   ()
SUMMARY:THUUMA meeting
URL:https://eruuf.org/calendar/calendar-view/event/2166-thuuma-meeting.html
END:VEVENT
END:VCALENDAR
